BEGIN:VCALENDAR
VERSION:2.0
PRODID:-//Plone.org//NONSGML plone.app.event//EN
X-WR-TIMEZONE:Europe/Rome
BEGIN:VEVENT
SUMMARY:Proiezione del film "Images" di Robert Altman (U.S.A.\, 1972)
DTSTART;TZID=Europe/Rome;VALUE=DATE-TIME:20200228T173000
DTEND;TZID=Europe/Rome;VALUE=DATE-TIME:20200228T190000
DTSTAMP;VALUE=DATE-TIME:20260420T010923Z
UID:f03219a1963b40579cc697b5362dfb21@ficlit.unibo.it
CREATED;VALUE=DATE-TIME:20200218T134440Z
DESCRIPTION:Iniziativa inserita nell'attività di studi del Centro Medical
  Humanities (Ficlit\, Bologna)
LAST-MODIFIED;VALUE=DATE-TIME:20200218T140424Z
URL:https://ficlit.unibo.it/it/eventi/proiezione-film-images-robert-altman
END:VEVENT
BEGIN:VTIMEZONE
TZID:Europe/Rome
X-LIC-LOCATION:Europe/Rome
BEGIN:STANDARD
DTSTART;VALUE=DATE-TIME:20191027T020000
TZNAME:CET
TZOFFSETFROM:+0200
TZOFFSETTO:+0100
END:STANDARD
END:VTIMEZONE
END:VCALENDAR
