BEGIN:VCALENDAR
VERSION:2.0
PRODID:-//Plone.org//NONSGML plone.app.event//EN
X-WR-TIMEZONE:Europe/Rome
BEGIN:VEVENT
SUMMARY:Promuovere il bene. L’archivio fuori di sé tra buone pratiche e
  innovazione
DTSTART;TZID=Europe/Rome;VALUE=DATE-TIME:20170309T150000
DTEND;TZID=Europe/Rome;VALUE=DATE-TIME:20170309T180000
DTSTAMP;VALUE=DATE-TIME:20260422T214242Z
UID:1ed9f96c18c849a98c4f5c2bf69aa09e@ficlit.unibo.it
CREATED;VALUE=DATE-TIME:20170202T123448Z
DESCRIPTION:Terzo incontro del ciclo "Dialoghi d'archivio"
LAST-MODIFIED;VALUE=DATE-TIME:20170221T120116Z
URL:https://ficlit.unibo.it/it/eventi/promuovereilbene
END:VEVENT
BEGIN:VTIMEZONE
TZID:Europe/Rome
X-LIC-LOCATION:Europe/Rome
BEGIN:STANDARD
DTSTART;VALUE=DATE-TIME:20161030T020000
TZNAME:CET
TZOFFSETFROM:+0200
TZOFFSETTO:+0100
END:STANDARD
END:VTIMEZONE
END:VCALENDAR
