BEGIN:VCALENDAR
VERSION:2.0
PRODID:-//Plone.org//NONSGML plone.app.event//EN
X-WR-TIMEZONE:Europe/Rome
BEGIN:VEVENT
SUMMARY:Pubblicare e tradurre un premio Nobel per la letteratura. Il caso 
 Ernaux e L’Orma editore
DTSTART;VALUE=DATE:20250618
DTEND;VALUE=DATE:20250619
DTSTAMP;VALUE=DATE-TIME:20260420T101224Z
UID:71668986c32441d69bcbe641369003ca@ficlit.unibo.it
CREATED;VALUE=DATE-TIME:20250610T142227Z
DESCRIPTION:Conferenza di Lorenzo Flabbi (editore e traduttore\, L’Orma)
LAST-MODIFIED;VALUE=DATE-TIME:20250610T143038Z
URL:https://ficlit.unibo.it/it/eventi/pubblicare-e-tradurre-un-premio-nobe
 l-per-la-letteratura-il-caso-ernaux-e-l-orma-editore
END:VEVENT
END:VCALENDAR
