BEGIN:VCALENDAR
VERSION:2.0
PRODID:-//Plone.org//NONSGML plone.app.event//EN
X-WR-TIMEZONE:Europe/Rome
BEGIN:VEVENT
SUMMARY:«Quaterni» caldi. Circolazione dei testi in fascicoli negli ambi
 enti delle spiritualità radicali (secoli XIII-XIV)
DTSTART;VALUE=DATE:20250117
DTEND;VALUE=DATE:20250118
DTSTAMP;VALUE=DATE-TIME:20260422T133521Z
UID:2c0abd6ebbd744578a25112a88ee9928@ficlit.unibo.it
CREATED;VALUE=DATE-TIME:20241126T162314Z
DESCRIPTION:Seminario del gruppo di ricerca "OPA. Opere Perdute e Opere An
 onime (sec. III-XV)"
LAST-MODIFIED;VALUE=DATE-TIME:20241126T163439Z
URL:https://ficlit.unibo.it/it/eventi/quaterni-caldi-circolazione-dei-test
 i-in-fascicoli-negli-ambienti-delle-spiritualita-radicali-secoli-xiii-xiv
END:VEVENT
END:VCALENDAR
