BEGIN:VCALENDAR
VERSION:2.0
PRODID:-//Plone.org//NONSGML plone.app.event//EN
X-WR-TIMEZONE:Europe/Rome
BEGIN:VEVENT
SUMMARY:Quello che il medico dice e non dice. Eufemismi\, bugie pietose\, 
 silenzi e parole nella cura - Incontro internazionale.
DTSTART;TZID=Europe/Rome;VALUE=DATE-TIME:20170504T090000
DTEND;TZID=Europe/Rome;VALUE=DATE-TIME:20170505T190000
DTSTAMP;VALUE=DATE-TIME:20260420T032702Z
UID:dd6810cf796d41daa0dff7c8dd60eb43@ficlit.unibo.it
CREATED;VALUE=DATE-TIME:20170427T113526Z
DESCRIPTION:L’evento\, organizzato dalla Fondazione del Monte di Bologna
  e Ravenna e l’Alma Mater- Università di Bologna\, con particolare rife
 rimento al Centro Studi “Medical humanities”\, ha l’intento di porre
  a confronto la parola e l’esperienza dei medici con quella degli studio
 si di retorica\, linguistica e letteratura.\nL’incontro si articola in d
 ue momenti: uno indirizzato a discutere il rapporto medico-paziente nella 
 pratica quotidiana\, l’altro volto a considerare il legame salute-malatt
 ia dal punto di vista della «narrazione» di medici e pazienti.
LAST-MODIFIED;VALUE=DATE-TIME:20170502T055547Z
URL:https://ficlit.unibo.it/it/eventi/quello-che-il-medico-dice-e-non-dice
 .-eufemismi-bugie-pietose-silenzi-e-parole-nella-cura
END:VEVENT
BEGIN:VTIMEZONE
TZID:Europe/Rome
X-LIC-LOCATION:Europe/Rome
BEGIN:DAYLIGHT
DTSTART;VALUE=DATE-TIME:20170326T030000
TZNAME:CEST
TZOFFSETFROM:+0100
TZOFFSETTO:+0200
END:DAYLIGHT
END:VTIMEZONE
END:VCALENDAR
