BEGIN:VCALENDAR
VERSION:2.0
PRODID:-//Plone.org//NONSGML plone.app.event//EN
X-WR-TIMEZONE:Europe/Rome
BEGIN:VEVENT
SUMMARY:Querelle des femmes in Italia nel Cinquecento
DTSTART;VALUE=DATE:20220310
DTEND;VALUE=DATE:20220325
DTSTAMP;VALUE=DATE-TIME:20260422T101402Z
UID:1d4a0281460e421c874f49a9831c84a5@ficlit.unibo.it
CREATED;VALUE=DATE-TIME:20220309T174840Z
DESCRIPTION:Ciclo di seminari tenuti da Jelena Bakic\, visiting professor 
 del nostro Dipartimento (Universidade do Porto - Portogallo)
LAST-MODIFIED;VALUE=DATE-TIME:20220311T170727Z
URL:https://ficlit.unibo.it/it/eventi/querelle-des-femmes-in-italia-nel-ci
 nquecento
END:VEVENT
END:VCALENDAR
