BEGIN:VCALENDAR
VERSION:2.0
PRODID:-//Plone.org//NONSGML plone.app.event//EN
X-WR-TIMEZONE:Europe/Rome
BEGIN:VEVENT
SUMMARY:Raccontare il "Giuseppe in Italia"
DTSTART;TZID=Europe/Rome;VALUE=DATE-TIME:20221124T173000
DTEND;TZID=Europe/Rome;VALUE=DATE-TIME:20221124T190000
DTSTAMP;VALUE=DATE-TIME:20260422T012552Z
UID:6ce7548ad18947939d48e56ccffd900f@ficlit.unibo.it
CREATED;VALUE=DATE-TIME:20221101T170553Z
DESCRIPTION:conferenza nell'ambito della mostra "Monsieur Giuseppe Raimond
 i tra Bologna e la Francia"
LAST-MODIFIED;VALUE=DATE-TIME:20221118T164616Z
URL:https://ficlit.unibo.it/it/eventi/raccontare-il-giuseppe-in-italia
END:VEVENT
BEGIN:VTIMEZONE
TZID:Europe/Rome
X-LIC-LOCATION:Europe/Rome
BEGIN:STANDARD
DTSTART;VALUE=DATE-TIME:20221030T020000
TZNAME:CET
TZOFFSETFROM:+0200
TZOFFSETTO:+0100
END:STANDARD
END:VTIMEZONE
END:VCALENDAR
