BEGIN:VCALENDAR
VERSION:2.0
PRODID:-//Plone.org//NONSGML plone.app.event//EN
X-WR-TIMEZONE:Europe/Rome
BEGIN:VEVENT
SUMMARY:Rifugiandomi nel vangelo come nella carne di Gesù
DTSTART;VALUE=DATE:20240314
DTEND;VALUE=DATE:20240316
DTSTAMP;VALUE=DATE-TIME:20260420T184551Z
UID:22d580cbeb654fd1b408e61ad1173a44@ficlit.unibo.it
CREATED;VALUE=DATE-TIME:20240216T135844Z
DESCRIPTION:Giornate in memoria di don Paolo Serra Zanetti
LAST-MODIFIED;VALUE=DATE-TIME:20240223T061922Z
URL:https://ficlit.unibo.it/it/eventi/rifugiandomi-nel-vangelo-come-nella-
 carne-di-gesu
END:VEVENT
END:VCALENDAR
