BEGIN:VCALENDAR
VERSION:2.0
PRODID:-//Plone.org//NONSGML plone.app.event//EN
X-WR-TIMEZONE:Europe/Rome
BEGIN:VEVENT
SUMMARY:Milan Richter e Saeid Hooshangi Incontro con due poeti internazion
 ali
DTSTART;TZID=Europe/Rome;VALUE=DATE-TIME:20170504T100000
DTEND;TZID=Europe/Rome;VALUE=DATE-TIME:20170504T120000
DTSTAMP;VALUE=DATE-TIME:20260422T151703Z
UID:5ea879515064473db2ecde21c63bb902@ficlit.unibo.it
CREATED;VALUE=DATE-TIME:20170420T085643Z
DESCRIPTION:Letture dei testi in lingua originale dagli autori e in traduz
 ione italiana da Graziella Sidoli e Cinzia Demi
LAST-MODIFIED;VALUE=DATE-TIME:20170427T104435Z
URL:https://ficlit.unibo.it/it/eventi/rilan-richter-e-saeid-hooshangi-inco
 ntro-con-due-poeti-internazionali
END:VEVENT
BEGIN:VTIMEZONE
TZID:Europe/Rome
X-LIC-LOCATION:Europe/Rome
BEGIN:DAYLIGHT
DTSTART;VALUE=DATE-TIME:20170326T030000
TZNAME:CEST
TZOFFSETFROM:+0100
TZOFFSETTO:+0200
END:DAYLIGHT
END:VTIMEZONE
END:VCALENDAR
