BEGIN:VCALENDAR
VERSION:2.0
PRODID:-//Plone.org//NONSGML plone.app.event//EN
X-WR-TIMEZONE:Europe/Rome
BEGIN:VEVENT
SUMMARY:Rinascimento in Appennino
DTSTART;TZID=Europe/Rome;VALUE=DATE-TIME:20241216T170000
DTEND;TZID=Europe/Rome;VALUE=DATE-TIME:20241216T190000
DTSTAMP;VALUE=DATE-TIME:20260420T082127Z
UID:6a30caacfab54aab908947154edde914@ficlit.unibo.it
CREATED;VALUE=DATE-TIME:20241212T084929Z
DESCRIPTION:Girolamo Pandolfi detto Girolamo da Casio e la "fioritura uman
 istica dell'ultimo Quattrocento porrettano"
LAST-MODIFIED;VALUE=DATE-TIME:20241212T085024Z
URL:https://ficlit.unibo.it/it/eventi/rinascimento-in-appennino
END:VEVENT
BEGIN:VTIMEZONE
TZID:Europe/Rome
X-LIC-LOCATION:Europe/Rome
BEGIN:STANDARD
DTSTART;VALUE=DATE-TIME:20241027T020000
TZNAME:CET
TZOFFSETFROM:+0200
TZOFFSETTO:+0100
END:STANDARD
END:VTIMEZONE
END:VCALENDAR
