BEGIN:VCALENDAR
VERSION:2.0
PRODID:-//Plone.org//NONSGML plone.app.event//EN
X-WR-TIMEZONE:Europe/Rome
BEGIN:VEVENT
SUMMARY:Roberta CESANA (Università degli studi di Milano) - La «copertin
 a parlante»: grafica e peritesto delle edizioni Feltrinelli (‘55-‘65)
DTSTART;TZID=Europe/Rome;VALUE=DATE-TIME:20200206T150000
DTEND;TZID=Europe/Rome;VALUE=DATE-TIME:20200206T170000
DTSTAMP;VALUE=DATE-TIME:20260419T190040Z
UID:66e196a021ec4e3eba7934588d09e20c@ficlit.unibo.it
CREATED;VALUE=DATE-TIME:20200122T160025Z
DESCRIPTION:Minuzie editoriali - Lezioni sul libro del Novecento in Italia
  - II ciclo di incontri - 2019-20
LAST-MODIFIED;VALUE=DATE-TIME:20200122T160153Z
URL:https://ficlit.unibo.it/it/eventi/roberta-cesana-copertina-parlante-gr
 afica-peritesto-edizioni-feltrinelli-55-65
END:VEVENT
BEGIN:VTIMEZONE
TZID:Europe/Rome
X-LIC-LOCATION:Europe/Rome
BEGIN:STANDARD
DTSTART;VALUE=DATE-TIME:20191027T020000
TZNAME:CET
TZOFFSETFROM:+0200
TZOFFSETTO:+0100
END:STANDARD
END:VTIMEZONE
END:VCALENDAR
