BEGIN:VCALENDAR
VERSION:2.0
PRODID:-//Plone.org//NONSGML plone.app.event//EN
X-WR-TIMEZONE:Europe/Rome
BEGIN:VEVENT
SUMMARY:Scienza e arte a Bologna: forme di autorappresentazione tra Rinasc
 imento e prima età moderna
DTSTART;TZID=Europe/Rome;VALUE=DATE-TIME:20200115T090000
DTEND;TZID=Europe/Rome;VALUE=DATE-TIME:20200115T183000
DTSTAMP;VALUE=DATE-TIME:20260419T190040Z
UID:56f02a8f2f814248bcf733ae4e51c8fb@ficlit.unibo.it
CREATED;VALUE=DATE-TIME:20200109T145654Z
DESCRIPTION:Giornata di studio
LAST-MODIFIED;VALUE=DATE-TIME:20200109T145850Z
URL:https://ficlit.unibo.it/it/eventi/scienza-e-arte-a-bologna-forme-di-au
 torappresentazione-tra-rinascimento-e-prima-eta-moderna
END:VEVENT
BEGIN:VTIMEZONE
TZID:Europe/Rome
X-LIC-LOCATION:Europe/Rome
BEGIN:STANDARD
DTSTART;VALUE=DATE-TIME:20191027T020000
TZNAME:CET
TZOFFSETFROM:+0200
TZOFFSETTO:+0100
END:STANDARD
END:VTIMEZONE
END:VCALENDAR
