BEGIN:VCALENDAR
VERSION:2.0
PRODID:-//Plone.org//NONSGML plone.app.event//EN
X-WR-TIMEZONE:Europe/Rome
BEGIN:VEVENT
SUMMARY:SEMINARI DI FILOLOGIA MODERNA A.A. 2021-2022
DTSTART;VALUE=DATE:20211019
DTEND;VALUE=DATE:20220601
DTSTAMP;VALUE=DATE-TIME:20260422T075243Z
UID:27997541fa9d49aea6aa8405acca4b6a@ficlit.unibo.it
CREATED;VALUE=DATE-TIME:20210930T103226Z
DESCRIPTION:Primo e secondo semestre
LAST-MODIFIED;VALUE=DATE-TIME:20220119T132322Z
URL:https://ficlit.unibo.it/it/eventi/seminari-filologia-moderna-2021-2022
END:VEVENT
END:VCALENDAR
