BEGIN:VCALENDAR
VERSION:2.0
PRODID:-//Plone.org//NONSGML plone.app.event//EN
X-WR-TIMEZONE:Europe/Rome
BEGIN:VEVENT
SUMMARY:Seminario dei Proff. Walter Lapini (Genova) e Fabio Stok (Roma\, 
 “Tor Vergata”): Sebastiano Timpanaro 
DTSTART;TZID=Europe/Rome;VALUE=DATE-TIME:20200519T150000
DTEND;TZID=Europe/Rome;VALUE=DATE-TIME:20200519T170000
DTSTAMP;VALUE=DATE-TIME:20260419T190148Z
UID:04266a02f68a4bb5aba47d0710368799@ficlit.unibo.it
CREATED;VALUE=DATE-TIME:20200113T094123Z
DESCRIPTION:(ciclo “i Maestri” del Corso di Dottorato in Culture Lette
 rarie e Filologiche)
LAST-MODIFIED;VALUE=DATE-TIME:20200113T094140Z
URL:https://ficlit.unibo.it/it/eventi/seminario-dei-proff.-walter-lapini-g
 enova-e-fabio-stok-roma-201ctor-vergata201d-sebastiano-timpanaro
END:VEVENT
BEGIN:VTIMEZONE
TZID:Europe/Rome
X-LIC-LOCATION:Europe/Rome
BEGIN:DAYLIGHT
DTSTART;VALUE=DATE-TIME:20200329T030000
TZNAME:CEST
TZOFFSETFROM:+0100
TZOFFSETTO:+0200
END:DAYLIGHT
END:VTIMEZONE
END:VCALENDAR
