BEGIN:VCALENDAR
VERSION:2.0
PRODID:-//Plone.org//NONSGML plone.app.event//EN
X-WR-TIMEZONE:Europe/Rome
BEGIN:VEVENT
SUMMARY:Seminario del Prof. Luciano Bossina (Padova): Giorgio Pasquali
DTSTART;TZID=Europe/Rome;VALUE=DATE-TIME:20200213T150000
DTEND;TZID=Europe/Rome;VALUE=DATE-TIME:20200213T180000
DTSTAMP;VALUE=DATE-TIME:20260419T190040Z
UID:02bc19bae110499e85b9339ab9e5de2a@ficlit.unibo.it
CREATED;VALUE=DATE-TIME:20200113T084307Z
DESCRIPTION:(ciclo “i Maestri” del Corso di Dottorato in Culture Lette
 rarie e Filologiche)
LAST-MODIFIED;VALUE=DATE-TIME:20200113T084809Z
URL:https://ficlit.unibo.it/it/eventi/seminario-del-prof.-luciano-bossina-
 padova-giorgio-pasquali
END:VEVENT
BEGIN:VTIMEZONE
TZID:Europe/Rome
X-LIC-LOCATION:Europe/Rome
BEGIN:STANDARD
DTSTART;VALUE=DATE-TIME:20191027T020000
TZNAME:CET
TZOFFSETFROM:+0200
TZOFFSETTO:+0100
END:STANDARD
END:VTIMEZONE
END:VCALENDAR
