BEGIN:VCALENDAR
VERSION:2.0
PRODID:-//Plone.org//NONSGML plone.app.event//EN
X-WR-TIMEZONE:Europe/Rome
BEGIN:VEVENT
SUMMARY:Seminario di A. Ludmann
DTSTART;TZID=Europe/Rome;VALUE=DATE-TIME:20180313T161500
DTEND;TZID=Europe/Rome;VALUE=DATE-TIME:20180313T180000
DTSTAMP;VALUE=DATE-TIME:20260424T060147Z
UID:73c466fde62e4cf5837c160587f487b2@ficlit.unibo.it
CREATED;VALUE=DATE-TIME:20180306T161014Z
LAST-MODIFIED;VALUE=DATE-TIME:20180306T161235Z
URL:https://ficlit.unibo.it/it/eventi/seminario-di-a.-ludmann
END:VEVENT
BEGIN:VTIMEZONE
TZID:Europe/Rome
X-LIC-LOCATION:Europe/Rome
BEGIN:STANDARD
DTSTART;VALUE=DATE-TIME:20171029T020000
TZNAME:CET
TZOFFSETFROM:+0200
TZOFFSETTO:+0100
END:STANDARD
END:VTIMEZONE
END:VCALENDAR
