BEGIN:VCALENDAR
VERSION:2.0
PRODID:-//Plone.org//NONSGML plone.app.event//EN
X-WR-TIMEZONE:Europe/Rome
BEGIN:VEVENT
SUMMARY:Seminario di C. Lo Cicero
DTSTART;TZID=Europe/Rome;VALUE=DATE-TIME:20180118T161500
DTEND;TZID=Europe/Rome;VALUE=DATE-TIME:20180118T180000
DTSTAMP;VALUE=DATE-TIME:20260424T092637Z
UID:b38de4b1e049476887fe7ed4265f4f90@ficlit.unibo.it
CREATED;VALUE=DATE-TIME:20180111T092815Z
LAST-MODIFIED;VALUE=DATE-TIME:20180111T092835Z
URL:https://ficlit.unibo.it/it/eventi/seminario-di-c.-lo-cicero
END:VEVENT
BEGIN:VTIMEZONE
TZID:Europe/Rome
X-LIC-LOCATION:Europe/Rome
BEGIN:STANDARD
DTSTART;VALUE=DATE-TIME:20171029T020000
TZNAME:CET
TZOFFSETFROM:+0200
TZOFFSETTO:+0100
END:STANDARD
END:VTIMEZONE
END:VCALENDAR
