BEGIN:VCALENDAR
VERSION:2.0
PRODID:-//Plone.org//NONSGML plone.app.event//EN
X-WR-TIMEZONE:Europe/Rome
BEGIN:VEVENT
SUMMARY:Seminario di L. Canetti
DTSTART;TZID=Europe/Rome;VALUE=DATE-TIME:20190606T161500
DTEND;TZID=Europe/Rome;VALUE=DATE-TIME:20190606T180000
DTSTAMP;VALUE=DATE-TIME:20260419T150720Z
UID:c4e2c9270b2b457d8c32df8e61f5ab89@ficlit.unibo.it
CREATED;VALUE=DATE-TIME:20181105T213937Z
LAST-MODIFIED;VALUE=DATE-TIME:20181105T213952Z
URL:https://ficlit.unibo.it/it/eventi/seminario-di-l.-canetti
END:VEVENT
BEGIN:VTIMEZONE
TZID:Europe/Rome
X-LIC-LOCATION:Europe/Rome
BEGIN:DAYLIGHT
DTSTART;VALUE=DATE-TIME:20190331T030000
TZNAME:CEST
TZOFFSETFROM:+0100
TZOFFSETTO:+0200
END:DAYLIGHT
END:VTIMEZONE
END:VCALENDAR
