BEGIN:VCALENDAR
VERSION:2.0
PRODID:-//Plone.org//NONSGML plone.app.event//EN
X-WR-TIMEZONE:Europe/Rome
BEGIN:VEVENT
SUMMARY:Seminario di M. Stroppa
DTSTART;TZID=Europe/Rome;VALUE=DATE-TIME:20180222T161500
DTEND;TZID=Europe/Rome;VALUE=DATE-TIME:20180222T180000
DTSTAMP;VALUE=DATE-TIME:20260424T053331Z
UID:d8bc4b7917b94137bdfc3dbece3f4aa5@ficlit.unibo.it
CREATED;VALUE=DATE-TIME:20180111T093146Z
LAST-MODIFIED;VALUE=DATE-TIME:20180111T093158Z
URL:https://ficlit.unibo.it/it/eventi/seminario-di-m.-stroppa
END:VEVENT
BEGIN:VTIMEZONE
TZID:Europe/Rome
X-LIC-LOCATION:Europe/Rome
BEGIN:STANDARD
DTSTART;VALUE=DATE-TIME:20171029T020000
TZNAME:CET
TZOFFSETFROM:+0200
TZOFFSETTO:+0100
END:STANDARD
END:VTIMEZONE
END:VCALENDAR
