BEGIN:VCALENDAR
VERSION:2.0
PRODID:-//Plone.org//NONSGML plone.app.event//EN
X-WR-TIMEZONE:Europe/Rome
BEGIN:VEVENT
SUMMARY:Seminario: ILIO PROJECT 2022 – Italian Literature International 
 Observatory
DTSTART;TZID=Europe/Rome;VALUE=DATE-TIME:20220512T093000
DTEND;TZID=Europe/Rome;VALUE=DATE-TIME:20220513T180000
DTSTAMP;VALUE=DATE-TIME:20260422T010438Z
UID:66905741f5a744ca8277a7033868e7d1@ficlit.unibo.it
CREATED;VALUE=DATE-TIME:20220502T113838Z
DESCRIPTION:Seminario di due giorni dedicato all’analisi della diffusion
 e e ricezione della Letteratura italiana contemporanea nel contesto di ogn
 i partner del progetto ILIO
LAST-MODIFIED;VALUE=DATE-TIME:20220502T114341Z
URL:https://ficlit.unibo.it/it/eventi/seminario-ilio-project-2022
END:VEVENT
BEGIN:VTIMEZONE
TZID:Europe/Rome
X-LIC-LOCATION:Europe/Rome
BEGIN:DAYLIGHT
DTSTART;VALUE=DATE-TIME:20220327T030000
TZNAME:CEST
TZOFFSETFROM:+0100
TZOFFSETTO:+0200
END:DAYLIGHT
END:VTIMEZONE
END:VCALENDAR
