BEGIN:VCALENDAR
VERSION:2.0
PRODID:-//Plone.org//NONSGML plone.app.event//EN
X-WR-TIMEZONE:Europe/Rome
BEGIN:VEVENT
SUMMARY:Seminario di Shoni LAVIE-DRIVER (Cambridge\, Visiting FICLIT)\, La
 nguage and Identity in Roman Judaea-Palaestina: Caesarea Maritima
DTSTART;TZID=Europe/Rome;VALUE=DATE-TIME:20241209T170000
DTEND;TZID=Europe/Rome;VALUE=DATE-TIME:20241209T190000
DTSTAMP;VALUE=DATE-TIME:20260420T082746Z
UID:6e5d2e4ba015432389d9f72d7ce55060@ficlit.unibo.it
CREATED;VALUE=DATE-TIME:20241203T110729Z
DESCRIPTION:FLCB 2024/2025 - Ciclo di conferenze e seminari
LAST-MODIFIED;VALUE=DATE-TIME:20241203T111019Z
URL:https://ficlit.unibo.it/it/eventi/seminario-shoni-lavie-driver-cambrid
 ge-language-identity-roman-judaea-palaestina-caesarea-maritima
END:VEVENT
BEGIN:VTIMEZONE
TZID:Europe/Rome
X-LIC-LOCATION:Europe/Rome
BEGIN:STANDARD
DTSTART;VALUE=DATE-TIME:20241027T020000
TZNAME:CET
TZOFFSETFROM:+0200
TZOFFSETTO:+0100
END:STANDARD
END:VTIMEZONE
END:VCALENDAR
