BEGIN:VCALENDAR
VERSION:2.0
PRODID:-//Plone.org//NONSGML plone.app.event//EN
X-WR-TIMEZONE:Europe/Rome
BEGIN:VEVENT
SUMMARY:Seminario sull'Agamennone di Eschilo
DTSTART;TZID=Europe/Rome;VALUE=DATE-TIME:20200515T100000
DTEND;TZID=Europe/Rome;VALUE=DATE-TIME:20200515T130000
DTSTAMP;VALUE=DATE-TIME:20260419T201623Z
UID:d7d21cf0acc64d8b9f127cd2d184c004@ficlit.unibo.it
CREATED;VALUE=DATE-TIME:20200228T162201Z
DESCRIPTION:Interverranno Enrico Medda (Pisa)\, Pierre Judet de La Combe (
 Paris EHESS)\, Renzo Tosi (Bologna).
LAST-MODIFIED;VALUE=DATE-TIME:20200228T162229Z
URL:https://ficlit.unibo.it/it/eventi/seminario-sull-agamennone-di-eschilo
END:VEVENT
BEGIN:VTIMEZONE
TZID:Europe/Rome
X-LIC-LOCATION:Europe/Rome
BEGIN:DAYLIGHT
DTSTART;VALUE=DATE-TIME:20200329T030000
TZNAME:CEST
TZOFFSETFROM:+0100
TZOFFSETTO:+0200
END:DAYLIGHT
END:VTIMEZONE
END:VCALENDAR
