BEGIN:VCALENDAR
VERSION:2.0
PRODID:-//Plone.org//NONSGML plone.app.event//EN
X-WR-TIMEZONE:Europe/Rome
BEGIN:VEVENT
SUMMARY:Seminario WiP. Work in progress - Nicola Chiarini\, Le fanciulle-f
 iore: tra il Roman d’Alexandre e La recherche di Proust.
DTSTART;TZID=Europe/Rome;VALUE=DATE-TIME:20200415T160000
DTEND;TZID=Europe/Rome;VALUE=DATE-TIME:20200415T180000
DTSTAMP;VALUE=DATE-TIME:20260419T190143Z
UID:b485baaece36476483bd8438989ebbb6@ficlit.unibo.it
CREATED;VALUE=DATE-TIME:20200331T135710Z
DESCRIPTION:Tutte le lezioni si terranno in modalità telematica a distanz
 a e potranno essere seguite sulla piattaforma Microsoft Teams\, chiedendo 
 di essere uniti al Teams ‘WiP.
LAST-MODIFIED;VALUE=DATE-TIME:20200331T135741Z
URL:https://ficlit.unibo.it/it/eventi/seminario-wip-nicola-chiarini-fanciu
 lle-fiore-roman-alexandre-recherche-proust
END:VEVENT
BEGIN:VTIMEZONE
TZID:Europe/Rome
X-LIC-LOCATION:Europe/Rome
BEGIN:DAYLIGHT
DTSTART;VALUE=DATE-TIME:20200329T030000
TZNAME:CEST
TZOFFSETFROM:+0100
TZOFFSETTO:+0200
END:DAYLIGHT
END:VTIMEZONE
END:VCALENDAR
