BEGIN:VCALENDAR
VERSION:2.0
PRODID:-//Plone.org//NONSGML plone.app.event//EN
X-WR-TIMEZONE:Europe/Rome
BEGIN:VEVENT
SUMMARY:Sergio Parussa (Wellesley College) - City of Bricks\, City of Word
 s
DTSTART;TZID=Europe/Rome;VALUE=DATE-TIME:20200204T173000
DTEND;TZID=Europe/Rome;VALUE=DATE-TIME:20200204T190000
DTSTAMP;VALUE=DATE-TIME:20260419T210702Z
UID:95d07911d24448b892aaeb46634f5633@ficlit.unibo.it
CREATED;VALUE=DATE-TIME:20200122T161449Z
DESCRIPTION:Ferrara in the architectural and literary imaginations of G. B
 assani and B. Zevi
LAST-MODIFIED;VALUE=DATE-TIME:20200128T103932Z
URL:https://ficlit.unibo.it/it/eventi/sergio-parussa-wellesley-college-cit
 y-bricks-city-words
END:VEVENT
BEGIN:VTIMEZONE
TZID:Europe/Rome
X-LIC-LOCATION:Europe/Rome
BEGIN:STANDARD
DTSTART;VALUE=DATE-TIME:20191027T020000
TZNAME:CET
TZOFFSETFROM:+0200
TZOFFSETTO:+0100
END:STANDARD
END:VTIMEZONE
END:VCALENDAR
