BEGIN:VCALENDAR
VERSION:2.0
PRODID:-//Plone.org//NONSGML plone.app.event//EN
X-WR-TIMEZONE:Europe/Rome
BEGIN:VEVENT
SUMMARY:Spazi e tempi del patrimonio: le narrazioni in divenire dei portic
 i
DTSTART;VALUE=DATE:20251203
DTEND;VALUE=DATE:20251205
DTSTAMP;VALUE=DATE-TIME:20260421T182854Z
UID:dd725b2157b242d5af3a3da43a537c31@ficlit.unibo.it
CREATED;VALUE=DATE-TIME:20251028T103311Z
DESCRIPTION:Convegno internazionale nell’ambito del progetto "Portici di
  Bologna: valorizzazione e comunicazione del patrimonio culturale UNESCO"
LAST-MODIFIED;VALUE=DATE-TIME:20251029T120603Z
URL:https://ficlit.unibo.it/it/eventi/spazi-e-tempi-del-patrimonio-le-narr
 azioni-in-divenire-dei-portici
END:VEVENT
END:VCALENDAR
