BEGIN:VCALENDAR
VERSION:2.0
PRODID:-//Plone.org//NONSGML plone.app.event//EN
X-WR-TIMEZONE:Europe/Rome
BEGIN:VEVENT
SUMMARY:Startup Day - Moving innovation
DTSTART;TZID=Europe/Rome;VALUE=DATE-TIME:20220520T100000
DTEND;TZID=Europe/Rome;VALUE=DATE-TIME:20220520T200000
DTSTAMP;VALUE=DATE-TIME:20260422T010215Z
UID:b999d1035a3a473ea539c5cbe23ed866@ficlit.unibo.it
CREATED;VALUE=DATE-TIME:20220513T150537Z
DESCRIPTION:Prenota il tuo posto per assaporare l'energia imprenditoriale 
 del futuro
LAST-MODIFIED;VALUE=DATE-TIME:20220513T150640Z
URL:https://ficlit.unibo.it/it/eventi/startup-day-moving-innovation
END:VEVENT
BEGIN:VTIMEZONE
TZID:Europe/Rome
X-LIC-LOCATION:Europe/Rome
BEGIN:DAYLIGHT
DTSTART;VALUE=DATE-TIME:20220327T030000
TZNAME:CEST
TZOFFSETFROM:+0100
TZOFFSETTO:+0200
END:DAYLIGHT
END:VTIMEZONE
END:VCALENDAR
