BEGIN:VCALENDAR
VERSION:2.0
PRODID:-//Plone.org//NONSGML plone.app.event//EN
X-WR-TIMEZONE:Europe/Rome
BEGIN:VEVENT
SUMMARY:Strappi. Nei codice\, nei racconti\, nelle esistenze da Francesco 
 d’Assisi in poi
DTSTART;TZID=Europe/Rome;VALUE=DATE-TIME:20250617T100000
DTEND;TZID=Europe/Rome;VALUE=DATE-TIME:20250617T163000
DTSTAMP;VALUE=DATE-TIME:20260420T101339Z
UID:781adc2f53684badb2b96d230fe0376e@ficlit.unibo.it
CREATED;VALUE=DATE-TIME:20250523T164048Z
DESCRIPTION:IV incontro di studio – a cura di Francesco Santi
LAST-MODIFIED;VALUE=DATE-TIME:20250523T165952Z
URL:https://ficlit.unibo.it/it/eventi/strappi-nei-codice-nei-racconti-nell
 e-esistenze-da-francesco-d-assisi-in-poi
END:VEVENT
BEGIN:VTIMEZONE
TZID:Europe/Rome
X-LIC-LOCATION:Europe/Rome
BEGIN:DAYLIGHT
DTSTART;VALUE=DATE-TIME:20250330T030000
TZNAME:CEST
TZOFFSETFROM:+0100
TZOFFSETTO:+0200
END:DAYLIGHT
END:VTIMEZONE
END:VCALENDAR
