BEGIN:VCALENDAR
VERSION:2.0
PRODID:-//Plone.org//NONSGML plone.app.event//EN
X-WR-TIMEZONE:Europe/Rome
BEGIN:VEVENT
SUMMARY:Tavola rotonda - Spettacolo dei convivi estensi e strategie politi
 che nella Romagna dei Borgia
DTSTART;TZID=Europe/Rome;VALUE=DATE-TIME:20191127T170000
DTEND;TZID=Europe/Rome;VALUE=DATE-TIME:20191127T190000
DTSTAMP;VALUE=DATE-TIME:20260419T202116Z
UID:8cfd0095808b4d469b130604d850763d@ficlit.unibo.it
CREATED;VALUE=DATE-TIME:20191031T100132Z
LAST-MODIFIED;VALUE=DATE-TIME:20191031T100423Z
URL:https://ficlit.unibo.it/it/eventi/tavola-rotonda-spettacolo-dei-conviv
 i-estensi-e-strategie-politiche-nella-romagna-dei-borgia
END:VEVENT
BEGIN:VTIMEZONE
TZID:Europe/Rome
X-LIC-LOCATION:Europe/Rome
BEGIN:STANDARD
DTSTART;VALUE=DATE-TIME:20191027T020000
TZNAME:CET
TZOFFSETFROM:+0200
TZOFFSETTO:+0100
END:STANDARD
END:VTIMEZONE
END:VCALENDAR
