BEGIN:VCALENDAR
VERSION:2.0
PRODID:-//Plone.org//NONSGML plone.app.event//EN
X-WR-TIMEZONE:Europe/Rome
BEGIN:VEVENT
SUMMARY:Testi\, carteggi e metadati: il caso Fracassetti
DTSTART;TZID=Europe/Rome;VALUE=DATE-TIME:20220317T100000
DTEND;TZID=Europe/Rome;VALUE=DATE-TIME:20220317T183000
DTSTAMP;VALUE=DATE-TIME:20260422T081621Z
UID:8bd5abe69c444f6eaa8525b654e01dcc@ficlit.unibo.it
CREATED;VALUE=DATE-TIME:20220307T194758Z
DESCRIPTION:Seminario di Filologia Moderna a.a. 2021/2022
LAST-MODIFIED;VALUE=DATE-TIME:20220307T195414Z
URL:https://ficlit.unibo.it/it/eventi/testi-carteggi-e-metadati-il-caso-fr
 acassetti
END:VEVENT
BEGIN:VTIMEZONE
TZID:Europe/Rome
X-LIC-LOCATION:Europe/Rome
BEGIN:STANDARD
DTSTART;VALUE=DATE-TIME:20211031T020000
TZNAME:CET
TZOFFSETFROM:+0200
TZOFFSETTO:+0100
END:STANDARD
END:VTIMEZONE
END:VCALENDAR
