BEGIN:VCALENDAR
VERSION:2.0
PRODID:-//Plone.org//NONSGML plone.app.event//EN
X-WR-TIMEZONE:Europe/Rome
BEGIN:VEVENT
SUMMARY:The ATLAS of Italian Digital Humanities: a dynamic knowledge graph
  of digital scholarly research on Italian Cultural Heritage
DTSTART;TZID=Europe/Rome;VALUE=DATE-TIME:20250922T110000
DTEND;TZID=Europe/Rome;VALUE=DATE-TIME:20250922T184500
DTSTAMP;VALUE=DATE-TIME:20260420T102229Z
UID:f707e26770094a87bf848134512a9827@ficlit.unibo.it
CREATED;VALUE=DATE-TIME:20250919T144939Z
DESCRIPTION:Workshop conclusivo del progetto PRIN2022 ATLAS
LAST-MODIFIED;VALUE=DATE-TIME:20250919T145650Z
URL:https://ficlit.unibo.it/it/eventi/the-atlas-of-italian-digital-humanit
 ies-a-dynamic-knowledge-graph-of-digital-scholarly-research-on-italian-cul
 tural-heritage
END:VEVENT
BEGIN:VTIMEZONE
TZID:Europe/Rome
X-LIC-LOCATION:Europe/Rome
BEGIN:DAYLIGHT
DTSTART;VALUE=DATE-TIME:20250330T030000
TZNAME:CEST
TZOFFSETFROM:+0100
TZOFFSETTO:+0200
END:DAYLIGHT
END:VTIMEZONE
END:VCALENDAR
