BEGIN:VCALENDAR
VERSION:2.0
PRODID:-//Plone.org//NONSGML plone.app.event//EN
X-WR-TIMEZONE:Europe/Rome
BEGIN:VEVENT
SUMMARY:Three “Medeas” by Andreas Flourakis
DTSTART;TZID=Europe/Rome;VALUE=DATE-TIME:20250409T150000
DTEND;TZID=Europe/Rome;VALUE=DATE-TIME:20250409T170000
DTSTAMP;VALUE=DATE-TIME:20260420T062600Z
UID:520c881ef9904b4781c8bba6211a041e@ficlit.unibo.it
CREATED;VALUE=DATE-TIME:20250318T102226Z
DESCRIPTION:Ciclo di Seminari organizzato nell’ambito del Progetto PRIN2
 022 (PNRR) WInGS – Women Intellectuals in Greek Society
LAST-MODIFIED;VALUE=DATE-TIME:20250318T102340Z
URL:https://ficlit.unibo.it/it/eventi/three-medeas-by-andreas-flourakis
END:VEVENT
BEGIN:VTIMEZONE
TZID:Europe/Rome
X-LIC-LOCATION:Europe/Rome
BEGIN:DAYLIGHT
DTSTART;VALUE=DATE-TIME:20250330T030000
TZNAME:CEST
TZOFFSETFROM:+0100
TZOFFSETTO:+0200
END:DAYLIGHT
END:VTIMEZONE
END:VCALENDAR
