BEGIN:VCALENDAR
VERSION:2.0
PRODID:-//Plone.org//NONSGML plone.app.event//EN
X-WR-TIMEZONE:Europe/Rome
BEGIN:VEVENT
SUMMARY:"TIscrivo. La scrittura sui banchi di scuola tra ricerca e didatti
 ca" - Lezione di S. Demartini
DTSTART;VALUE=DATE:20170313
DTEND;VALUE=DATE:20170314
DTSTAMP;VALUE=DATE-TIME:20260422T204637Z
UID:25138abc85e14ab1b8e6cdf0eb305c9a@ficlit.unibo.it
CREATED;VALUE=DATE-TIME:20170303T003521Z
LAST-MODIFIED;VALUE=DATE-TIME:20170303T003534Z
URL:https://ficlit.unibo.it/it/eventi/tiscrivo.-la-scrittura-sui-banchi-di
 -scuola-tra-ricerca-e-didattica-lezione-di-s.-demartini
END:VEVENT
END:VCALENDAR
