BEGIN:VCALENDAR
VERSION:2.0
PRODID:-//Plone.org//NONSGML plone.app.event//EN
X-WR-TIMEZONE:Europe/Rome
BEGIN:VEVENT
SUMMARY:Tradizione manoscritta e varianti di trasmissione: il caso di Auso
 nio
DTSTART;TZID=Europe/Rome;VALUE=DATE-TIME:20220302T110000
DTEND;TZID=Europe/Rome;VALUE=DATE-TIME:20220302T130000
DTSTAMP;VALUE=DATE-TIME:20260422T101530Z
UID:0d1c95a40cd044229d6d20d1df5326e7@ficlit.unibo.it
CREATED;VALUE=DATE-TIME:20220208T100855Z
DESCRIPTION:Relatore Prof. Luca Mondin (Università Ca' Foscari\, Venezia)
LAST-MODIFIED;VALUE=DATE-TIME:20220208T101105Z
URL:https://ficlit.unibo.it/it/eventi/tradizione-manoscritta-e-varianti-di
 -trasmissione-il-caso-di-ausonio
END:VEVENT
BEGIN:VTIMEZONE
TZID:Europe/Rome
X-LIC-LOCATION:Europe/Rome
BEGIN:STANDARD
DTSTART;VALUE=DATE-TIME:20211031T020000
TZNAME:CET
TZOFFSETFROM:+0200
TZOFFSETTO:+0100
END:STANDARD
END:VTIMEZONE
END:VCALENDAR
