BEGIN:VCALENDAR
VERSION:2.0
PRODID:-//Plone.org//NONSGML plone.app.event//EN
X-WR-TIMEZONE:Europe/Rome
BEGIN:VEVENT
SUMMARY:Training Course "Training on teaching methodologies to foreign lan
 guages for absolute beginners"
DTSTART;VALUE=DATE:20250526
DTEND;VALUE=DATE:20250529
DTSTAMP;VALUE=DATE-TIME:20260423T100257Z
UID:ba3e25abd4284fa39882d06b3a740ac0@ficlit.unibo.it
CREATED;VALUE=DATE-TIME:20250513T151838Z
DESCRIPTION:L'iniziativa è organizzata dall'Unità di ricerca bolognese\,
  coordinata da Matteo Viale\, del progetto europeo COMMUNIKITE – Communi
 cative Needs in a First-aid Kit for humanitarian Emergency situation
LAST-MODIFIED;VALUE=DATE-TIME:20250513T152413Z
URL:https://ficlit.unibo.it/it/eventi/training-course-training-on-teaching
 -methodologies-to-foreign-languages-for-absolute-beginners
END:VEVENT
END:VCALENDAR
