BEGIN:VCALENDAR
VERSION:2.0
PRODID:-//Plone.org//NONSGML plone.app.event//EN
X-WR-TIMEZONE:Europe/Rome
BEGIN:VEVENT
SUMMARY:Ulisse. L’arte e il mito
DTSTART;VALUE=DATE:20200215
DTEND;VALUE=DATE:20200222
DTSTAMP;VALUE=DATE-TIME:20260421T132533Z
UID:cdd5e1dd97084fb5b5e7fe01252a88c7@ficlit.unibo.it
CREATED;VALUE=DATE-TIME:20220125T112554Z
DESCRIPTION:Referente Marco Antonio Bazzocchi
LAST-MODIFIED;VALUE=DATE-TIME:20220125T112554Z
URL:https://ficlit.unibo.it/it/eventi/ulisse-l-arte-e-il-mito
END:VEVENT
END:VCALENDAR
