BEGIN:VCALENDAR
VERSION:2.0
PRODID:-//Plone.org//NONSGML plone.app.event//EN
X-WR-TIMEZONE:Europe/Rome
BEGIN:VEVENT
SUMMARY:Un contesto per Saffo
DTSTART;TZID=Europe/Rome;VALUE=DATE-TIME:20200408T160000
DTEND;TZID=Europe/Rome;VALUE=DATE-TIME:20200408T180000
DTSTAMP;VALUE=DATE-TIME:20260419T183414Z
UID:d23f810eec434863a57bd22518d1a8ea@ficlit.unibo.it
CREATED;VALUE=DATE-TIME:20200303T104931Z
DESCRIPTION:Seminario di Stefano Caciagli (Bologna) e Donato Loscalzo (Per
 ugia).
LAST-MODIFIED;VALUE=DATE-TIME:20200303T104931Z
URL:https://ficlit.unibo.it/it/eventi/un-contesto-per-saffo
END:VEVENT
BEGIN:VTIMEZONE
TZID:Europe/Rome
X-LIC-LOCATION:Europe/Rome
BEGIN:DAYLIGHT
DTSTART;VALUE=DATE-TIME:20200329T030000
TZNAME:CEST
TZOFFSETFROM:+0100
TZOFFSETTO:+0200
END:DAYLIGHT
END:VTIMEZONE
END:VCALENDAR
