BEGIN:VCALENDAR
VERSION:2.0
PRODID:-//Plone.org//NONSGML plone.app.event//EN
X-WR-TIMEZONE:Europe/Rome
BEGIN:VEVENT
SUMMARY:Un pomeriggio per il Tass
DTSTART;TZID=Europe/Rome;VALUE=DATE-TIME:20220518T150000
DTEND;TZID=Europe/Rome;VALUE=DATE-TIME:20220518T170000
DTSTAMP;VALUE=DATE-TIME:20260422T081621Z
UID:6c0d98d91331416ea55430584a0c3508@ficlit.unibo.it
CREATED;VALUE=DATE-TIME:20220510T063747Z
DESCRIPTION:Pensieri e parole per Stefano Tassinari a dieci anni dalla mor
 te
LAST-MODIFIED;VALUE=DATE-TIME:20220510T080936Z
URL:https://ficlit.unibo.it/it/eventi/un-pomeriggio-per-il-tass
END:VEVENT
BEGIN:VTIMEZONE
TZID:Europe/Rome
X-LIC-LOCATION:Europe/Rome
BEGIN:DAYLIGHT
DTSTART;VALUE=DATE-TIME:20220327T030000
TZNAME:CEST
TZOFFSETFROM:+0100
TZOFFSETTO:+0200
END:DAYLIGHT
END:VTIMEZONE
END:VCALENDAR
