BEGIN:VCALENDAR
VERSION:2.0
PRODID:-//Plone.org//NONSGML plone.app.event//EN
X-WR-TIMEZONE:Europe/Rome
BEGIN:VEVENT
SUMMARY:Una riflessione sulla parola “indecisione"
DTSTART;VALUE=DATE:20250612
DTEND;VALUE=DATE:20250613
DTSTAMP;VALUE=DATE-TIME:20260423T100853Z
UID:0085f6ea659944adab58cf21d2266122@ficlit.unibo.it
CREATED;VALUE=DATE-TIME:20250611T140842Z
DESCRIPTION:Quarto appuntamento del ciclo di incontri Lo spazio della paro
 la. Aperitivi filologici – a cura di Francesca Florimbii
LAST-MODIFIED;VALUE=DATE-TIME:20250611T143211Z
URL:https://ficlit.unibo.it/it/eventi/una-riflessione-sulla-parola-indecis
 ione
END:VEVENT
END:VCALENDAR
