BEGIN:VCALENDAR
VERSION:2.0
PRODID:-//Plone.org//NONSGML plone.app.event//EN
X-WR-TIMEZONE:Europe/Rome
BEGIN:VEVENT
SUMMARY:Una riflessione sulla parola “reattività"
DTSTART;VALUE=DATE:20250305
DTEND;VALUE=DATE:20250306
DTSTAMP;VALUE=DATE-TIME:20260420T063152Z
UID:8b4ed66175ee4be3b7af13b02c520f19@ficlit.unibo.it
CREATED;VALUE=DATE-TIME:20250222T134628Z
DESCRIPTION:Secondo appuntamento del ciclo di incontri Lo spazio della par
 ola. Aperitivi filologici – a cura di Francesca Florimbii
LAST-MODIFIED;VALUE=DATE-TIME:20250222T135455Z
URL:https://ficlit.unibo.it/it/eventi/una-riflessione-sulla-parola-reattiv
 ita
END:VEVENT
END:VCALENDAR
