BEGIN:VCALENDAR
VERSION:2.0
PRODID:-//Plone.org//NONSGML plone.app.event//EN
X-WR-TIMEZONE:Europe/Rome
BEGIN:VEVENT
SUMMARY:Una settimana mediolatina a Bologna
DTSTART;VALUE=DATE:20250616
DTEND;VALUE=DATE:20250621
DTSTAMP;VALUE=DATE-TIME:20260421T233453Z
UID:e029994bfae44c98ab0766e00f905a18@ficlit.unibo.it
CREATED;VALUE=DATE-TIME:20250509T161515Z
DESCRIPTION:Iniziativa realizzata in collaborazione con Echi Medievali\, O
 fficina San Francesco\, Biblioteca Patriarcale di San Domenico e Società 
 Internazionale per lo Studio del Medioevo Latino
LAST-MODIFIED;VALUE=DATE-TIME:20250509T162315Z
URL:https://ficlit.unibo.it/it/eventi/una-settimana-mediolatina-a-bologna
END:VEVENT
END:VCALENDAR
