BEGIN:VCALENDAR
VERSION:2.0
PRODID:-//Plone.org//NONSGML plone.app.event//EN
X-WR-TIMEZONE:Europe/Rome
BEGIN:VEVENT
SUMMARY:Urban walking cultures tra letteratura e ambiente
DTSTART;TZID=Europe/Rome;VALUE=DATE-TIME:20250214T100000
DTEND;TZID=Europe/Rome;VALUE=DATE-TIME:20250214T173000
DTSTAMP;VALUE=DATE-TIME:20260420T100512Z
UID:1e34dcd126df4ef4a47a4695401df378@ficlit.unibo.it
CREATED;VALUE=DATE-TIME:20250110T100118Z
DESCRIPTION:Transdisciplinary colloquium - Attività organizzata nell’am
 bito del Progetto PRIN PNRR 2022 WALC—WALKING LANDSCAPES OF URBAN CULTUR
 ES
LAST-MODIFIED;VALUE=DATE-TIME:20250128T120359Z
URL:https://ficlit.unibo.it/it/eventi/urban-walking-cultures-tra-letteratu
 ra-e-ambiente
END:VEVENT
BEGIN:VTIMEZONE
TZID:Europe/Rome
X-LIC-LOCATION:Europe/Rome
BEGIN:STANDARD
DTSTART;VALUE=DATE-TIME:20241027T020000
TZNAME:CET
TZOFFSETFROM:+0200
TZOFFSETTO:+0100
END:STANDARD
END:VTIMEZONE
END:VCALENDAR
