BEGIN:VCALENDAR
VERSION:2.0
PRODID:-//Plone.org//NONSGML plone.app.event//EN
X-WR-TIMEZONE:Europe/Rome
BEGIN:VEVENT
SUMMARY:Viaggi fantastici\, meravigliosi\, estremi
DTSTART;TZID=Europe/Rome;VALUE=DATE-TIME:20170503T153000
DTEND;TZID=Europe/Rome;VALUE=DATE-TIME:20170503T173000
DTSTAMP;VALUE=DATE-TIME:20260422T185205Z
UID:c3aac82767314e41aed809ca5421294f@ficlit.unibo.it
CREATED;VALUE=DATE-TIME:20170418T072501Z
DESCRIPTION:Conferenza di Giovanna Angeli (Firenze-Parigi)
LAST-MODIFIED;VALUE=DATE-TIME:20170420T104711Z
URL:https://ficlit.unibo.it/it/eventi/viaggi-fantastici-meravigliosi-estre
 mi
END:VEVENT
BEGIN:VTIMEZONE
TZID:Europe/Rome
X-LIC-LOCATION:Europe/Rome
BEGIN:DAYLIGHT
DTSTART;VALUE=DATE-TIME:20170326T030000
TZNAME:CEST
TZOFFSETFROM:+0100
TZOFFSETTO:+0200
END:DAYLIGHT
END:VTIMEZONE
END:VCALENDAR
