BEGIN:VCALENDAR
VERSION:2.0
PRODID:-//Plone.org//NONSGML plone.app.event//EN
X-WR-TIMEZONE:Europe/Rome
BEGIN:VEVENT
SUMMARY:Vizi e virtù del corpo di donna agli albori della querelle des fe
 mmes
DTSTART;VALUE=DATE:20250228
DTEND;VALUE=DATE:20250301
DTSTAMP;VALUE=DATE-TIME:20260420T103740Z
UID:657be5b47fbc40cb8276b018cd1ab811@ficlit.unibo.it
CREATED;VALUE=DATE-TIME:20250222T133042Z
DESCRIPTION:Parte di: Seminario Internazionale febbraio-marzo 2025 "Voci e
  corpi di donna tra Medioevo e Rinascimento" a cura di Patrizia Caraffi
LAST-MODIFIED;VALUE=DATE-TIME:20250222T133513Z
URL:https://ficlit.unibo.it/it/eventi/vizi-e-virtu-del-corpo-di-donna-agli
 -albori-della-querelle-des-femmes
END:VEVENT
END:VCALENDAR
