BEGIN:VCALENDAR
VERSION:2.0
PRODID:-//Plone.org//NONSGML plone.app.event//EN
X-WR-TIMEZONE:Europe/Rome
BEGIN:VEVENT
SUMMARY:W.I.P. Work in Progress
DTSTART;VALUE=DATE:20241113
DTEND;VALUE=DATE:20241128
DTSTAMP;VALUE=DATE-TIME:20260420T081905Z
UID:16b5a16005994004bd658d9c1e0320fe@ficlit.unibo.it
CREATED;VALUE=DATE-TIME:20241108T083850Z
DESCRIPTION:Incontri del primo semestre del Seminario di Filologia romanza
LAST-MODIFIED;VALUE=DATE-TIME:20241108T084633Z
URL:https://ficlit.unibo.it/it/eventi/w-i-p-work-in-progress
END:VEVENT
END:VCALENDAR
