BEGIN:VCALENDAR
VERSION:2.0
PRODID:-//Plone.org//NONSGML plone.app.event//EN
X-WR-TIMEZONE:Europe/Rome
BEGIN:VEVENT
SUMMARY:Webinar con Daniele D'Aguanno (Università di Napoli L’Orientale
 ) "L'approccio interdisciplinare nella didattica dell'italiano scritto (L1
  e L2)"
DTSTART;TZID=Europe/Rome;VALUE=DATE-TIME:20220218T130000
DTEND;TZID=Europe/Rome;VALUE=DATE-TIME:20220218T140000
DTSTAMP;VALUE=DATE-TIME:20260422T123229Z
UID:32c316b1359c4246897abed9e4b17bf6@ficlit.unibo.it
CREATED;VALUE=DATE-TIME:20220215T162833Z
DESCRIPTION:18 febbraio 2022\, ore 13
LAST-MODIFIED;VALUE=DATE-TIME:20220215T163120Z
URL:https://ficlit.unibo.it/it/eventi/webinar-con-daniele-d-aguanno-univer
 sita-di-napoli-l-orientale-l-approccio-interdisciplinare-nella-didattica-d
 ell-italiano-scritto-1-2
END:VEVENT
BEGIN:VTIMEZONE
TZID:Europe/Rome
X-LIC-LOCATION:Europe/Rome
BEGIN:STANDARD
DTSTART;VALUE=DATE-TIME:20211031T020000
TZNAME:CET
TZOFFSETFROM:+0200
TZOFFSETTO:+0100
END:STANDARD
END:VTIMEZONE
END:VCALENDAR
