BEGIN:VCALENDAR
VERSION:2.0
PRODID:-//Plone.org//NONSGML plone.app.event//EN
X-WR-TIMEZONE:Europe/Rome
BEGIN:VEVENT
SUMMARY:Webinar per la certificazione latina
DTSTART;VALUE=DATE:20210525
DTEND;VALUE=DATE:20210526
DTSTAMP;VALUE=DATE-TIME:20260425T000621Z
UID:70c33d0b747d4d3da61cfafe76915992@ficlit.unibo.it
CREATED;VALUE=DATE-TIME:20220125T095445Z
DESCRIPTION:Iniziativa del progetto Eulalia a cura di Lucia Pasetti
LAST-MODIFIED;VALUE=DATE-TIME:20220125T095643Z
URL:https://ficlit.unibo.it/it/eventi/webinar-per-la-certificazione-latina
END:VEVENT
END:VCALENDAR
