BEGIN:VCALENDAR
VERSION:2.0
PRODID:-//Plone.org//NONSGML plone.app.event//EN
X-WR-TIMEZONE:Europe/Rome
BEGIN:VEVENT
SUMMARY:Workshop italo-français: Le livre scientifique médiéval
DTSTART;VALUE=DATE:20210625
DTEND;VALUE=DATE:20210626
DTSTAMP;VALUE=DATE-TIME:20260426T030614Z
UID:4b4d912b8fcb4fd5a5414cdb8def05c1@ficlit.unibo.it
CREATED;VALUE=DATE-TIME:20210621T133403Z
DESCRIPTION:Quand la forme influence le fond
LAST-MODIFIED;VALUE=DATE-TIME:20210621T134026Z
URL:https://ficlit.unibo.it/it/eventi/workshop-italo-francais-livre-scient
 ifique-medieval
END:VEVENT
END:VCALENDAR
