BEGIN:VCALENDAR
VERSION:2.0
PRODID:-//Plone.org//NONSGML plone.app.event//EN
X-WR-TIMEZONE:Europe/Rome
BEGIN:VEVENT
SUMMARY:Prof.ssa Marianna Marcella Bolognesi\, Writing beyond words. Multi
 modal metaphors and symbols
DTSTART;TZID=Europe/Rome;VALUE=DATE-TIME:20220520T160000
DTEND;TZID=Europe/Rome;VALUE=DATE-TIME:20220520T170000
DTSTAMP;VALUE=DATE-TIME:20260426T020633Z
UID:850c378b86614fff8a350e9caec1b080@ficlit.unibo.it
CREATED;VALUE=DATE-TIME:20220517T171554Z
DESCRIPTION:SCRIBO Seminars 2022
LAST-MODIFIED;VALUE=DATE-TIME:20220517T171927Z
URL:https://ficlit.unibo.it/it/eventi/writing-beyond-words-multimodal-meta
 phors-and-symbols
END:VEVENT
BEGIN:VTIMEZONE
TZID:Europe/Rome
X-LIC-LOCATION:Europe/Rome
BEGIN:DAYLIGHT
DTSTART;VALUE=DATE-TIME:20220327T030000
TZNAME:CEST
TZOFFSETFROM:+0100
TZOFFSETTO:+0200
END:DAYLIGHT
END:VTIMEZONE
END:VCALENDAR
